BEGIN:VCALENDAR
VERSION:2.0
PRODID:SchoolNow
CALSCALE:GREGORIAN
BEGIN:VEVENT
UID:db407a62-39d5-11f1-87aa-0e794084c8a1
DTSTAMP:20260421T102008Z
SUMMARY:ELA GMAS
URL;VALUE=URI:https://www.colquitt.k12.ga.us/schools/wright/calendar/899887
 4/ela-gmas
DTSTART;VALUE=DATE:20260422
DTEND;VALUE=DATE:20260423
END:VEVENT
END:VCALENDAR
