BEGIN:VCALENDAR
VERSION:2.0
PRODID:SchoolNow
CALSCALE:GREGORIAN
BEGIN:VEVENT
UID:e4bdc0e6-3cd6-11f1-8e4c-0a58a9feac02
DTSTAMP:20260421T044507Z
SUMMARY:Pre-K Preview
URL;VALUE=URI:https://www.colquitt.k12.ga.us/schools/sunset/calendar/900745
 6/pre-k-preview
DTSTART:20260505T130000Z
DTEND:20260505T140000Z
END:VEVENT
END:VCALENDAR
