BEGIN:VCALENDAR
VERSION:2.0
PRODID:SchoolNow
CALSCALE:GREGORIAN
BEGIN:VEVENT
UID:3516fc56-1897-11f1-ace1-0e44292b3ba7
DTSTAMP:20260420T103008Z
SUMMARY:Parent Family Engagement Night
URL;VALUE=URI:https://www.colquitt.k12.ga.us/schools/sunset/calendar/889310
 1/parent-family-engagement-night
DTSTART:20260319T213000Z
DTEND:20260319T223000Z
END:VEVENT
END:VCALENDAR
