BEGIN:VCALENDAR
VERSION:2.0
PRODID:SchoolNow
CALSCALE:GREGORIAN
BEGIN:VEVENT
UID:3516fac6-1897-11f1-a7d2-0e44292b3ba7
DTSTAMP:20260420T103008Z
SUMMARY:K-2nd Field Day!
URL;VALUE=URI:https://www.colquitt.k12.ga.us/schools/sunset/calendar/889310
 0/k-2nd-field-day
DTSTART;VALUE=DATE:20260401
DTEND;VALUE=DATE:20260402
END:VEVENT
END:VCALENDAR
