BEGIN:VCALENDAR
VERSION:2.0
PRODID:SchoolNow
CALSCALE:GREGORIAN
BEGIN:VEVENT
UID:3516f8dc-1897-11f1-bb7d-0e44292b3ba7
DTSTAMP:20260420T103008Z
SUMMARY:3rd-5th Field Day!
URL;VALUE=URI:https://www.colquitt.k12.ga.us/schools/sunset/calendar/889309
 9/3rd-5th-field-day
DTSTART;VALUE=DATE:20260402
DTEND;VALUE=DATE:20260403
END:VEVENT
END:VCALENDAR
