BEGIN:VCALENDAR
VERSION:2.0
PRODID:SchoolNow
CALSCALE:GREGORIAN
BEGIN:VEVENT
UID:3516f094-1897-11f1-b3b7-0e44292b3ba7
DTSTAMP:20260420T103008Z
SUMMARY:5th Grade Parent Luncheon
URL;VALUE=URI:https://www.colquitt.k12.ga.us/schools/sunset/calendar/889309
 8/5th-grade-parent-luncheon
DTSTART;VALUE=DATE:20260310
DTEND;VALUE=DATE:20260311
END:VEVENT
END:VCALENDAR
