BEGIN:VCALENDAR
VERSION:2.0
PRODID:SchoolNow
CALSCALE:GREGORIAN
BEGIN:VEVENT
UID:782b43e4-97e1-11f0-9db2-0a58a9feac02
DTSTAMP:20260421T044507Z
SUMMARY:PreK Field Day
URL;VALUE=URI:https://www.colquitt.k12.ga.us/schools/sunset/calendar/865317
 7/prek-field-day
DTSTART;VALUE=DATE:20260507
DTEND;VALUE=DATE:20260508
END:VEVENT
END:VCALENDAR
