BEGIN:VCALENDAR
VERSION:2.0
PRODID:SchoolNow
CALSCALE:GREGORIAN
BEGIN:VEVENT
UID:782b4308-97e1-11f0-a056-0a58a9feac02
DTSTAMP:20260421T044507Z
SUMMARY:PreK Fine Arts Program
URL;VALUE=URI:https://www.colquitt.k12.ga.us/schools/sunset/calendar/865317
 6/prek-fine-arts-program
DTSTART;VALUE=DATE:20260507
DTEND;VALUE=DATE:20260508
END:VEVENT
END:VCALENDAR
