BEGIN:VCALENDAR
VERSION:2.0
PRODID:SchoolNow
CALSCALE:GREGORIAN
BEGIN:VEVENT
UID:782b4236-97e1-11f0-977c-0a58a9feac02
DTSTAMP:20260422T050509Z
SUMMARY:HONORS DAY: 2nd-5th Grade
URL;VALUE=URI:https://www.colquitt.k12.ga.us/schools/sunset/calendar/865317
 5/honors-day-2nd-5th-grade
DTSTART;VALUE=DATE:20260520
DTEND;VALUE=DATE:20260521
END:VEVENT
END:VCALENDAR
