BEGIN:VCALENDAR
VERSION:2.0
PRODID:SchoolNow
CALSCALE:GREGORIAN
BEGIN:VEVENT
UID:782b415a-97e1-11f0-9f85-0a58a9feac02
DTSTAMP:20260422T050509Z
SUMMARY:HONORS DAY: PreK-1st Grade
URL;VALUE=URI:https://www.colquitt.k12.ga.us/schools/sunset/calendar/865317
 4/honors-day-prek-1st-grade
DTSTART;VALUE=DATE:20260519
DTEND;VALUE=DATE:20260520
END:VEVENT
END:VCALENDAR
