BEGIN:VCALENDAR
VERSION:2.0
PRODID:SchoolNow
CALSCALE:GREGORIAN
BEGIN:VEVENT
UID:782b4088-97e1-11f0-8f95-0a58a9feac02
DTSTAMP:20260422T050509Z
SUMMARY:Last Day of School!
URL;VALUE=URI:https://www.colquitt.k12.ga.us/schools/sunset/calendar/865317
 3/last-day-of-school
DTSTART;VALUE=DATE:20260520
DTEND;VALUE=DATE:20260521
END:VEVENT
END:VCALENDAR
