BEGIN:VCALENDAR
VERSION:2.0
PRODID:SchoolNow
CALSCALE:GREGORIAN
BEGIN:VEVENT
UID:782b3fac-97e1-11f0-96e1-0a58a9feac02
DTSTAMP:20260420T103008Z
SUMMARY:1st Grade Fine Arts Program
URL;VALUE=URI:https://www.colquitt.k12.ga.us/schools/sunset/calendar/865317
 2/1st-grade-fine-arts-program
DTSTART;VALUE=DATE:20260306
DTEND;VALUE=DATE:20260307
END:VEVENT
END:VCALENDAR
