BEGIN:VCALENDAR
VERSION:2.0
PRODID:SchoolNow
CALSCALE:GREGORIAN
BEGIN:VEVENT
UID:782b3d2c-97e1-11f0-b6c0-0a58a9feac02
DTSTAMP:20260420T163508Z
SUMMARY:STEM NIGHT
URL;VALUE=URI:https://www.colquitt.k12.ga.us/schools/sunset/calendar/865316
 9/stem-night
DTSTART;VALUE=DATE:20260122
DTEND;VALUE=DATE:20260123
END:VEVENT
END:VCALENDAR
