BEGIN:VCALENDAR
VERSION:2.0
PRODID:SchoolNow
CALSCALE:GREGORIAN
BEGIN:VEVENT
UID:782b361a-97e1-11f0-926c-0a58a9feac02
DTSTAMP:20260420T163508Z
SUMMARY:100th Day Of School!
URL;VALUE=URI:https://www.colquitt.k12.ga.us/schools/sunset/calendar/865316
 1/100th-day-of-school
DTSTART;VALUE=DATE:20260116
DTEND;VALUE=DATE:20260117
END:VEVENT
END:VCALENDAR
