BEGIN:VCALENDAR
VERSION:2.0
PRODID:SchoolNow
CALSCALE:GREGORIAN
BEGIN:VEVENT
UID:782b334a-97e1-11f0-9b89-0a58a9feac02
DTSTAMP:20260420T163508Z
SUMMARY:HONORS DAY (8:00-2nd & 3rd\, 9:30-4th & 5th\,  1:00- K &1st)
URL;VALUE=URI:https://www.colquitt.k12.ga.us/schools/sunset/calendar/865315
 8/honors-day-8-00-2nd-3rd-9-30-4th-5th-1-00-k-1st
DTSTART;VALUE=DATE:20260115
DTEND;VALUE=DATE:20260116
END:VEVENT
END:VCALENDAR
