BEGIN:VCALENDAR
VERSION:2.0
PRODID:SchoolNow
CALSCALE:GREGORIAN
BEGIN:VEVENT
UID:8d5d1922-845e-11f0-94cf-0a58a9feac02
DTSTAMP:20260420T103008Z
SUMMARY:Spring / Club pictures
URL;VALUE=URI:https://www.colquitt.k12.ga.us/schools/sunset/calendar/855574
 8/spring-club-pictures
DTSTART;VALUE=DATE:20260311
DTEND;VALUE=DATE:20260312
END:VEVENT
END:VCALENDAR
