BEGIN:VCALENDAR
VERSION:2.0
PRODID:SchoolNow
CALSCALE:GREGORIAN
BEGIN:VEVENT
UID:8d5d183c-845e-11f0-8e6f-0a58a9feac02
DTSTAMP:20260420T103008Z
SUMMARY:GA Studies
URL;VALUE=URI:https://www.colquitt.k12.ga.us/schools/sunset/calendar/855574
 7/ga-studies
DTSTART;VALUE=DATE:20260220
DTEND;VALUE=DATE:20260221
END:VEVENT
END:VCALENDAR
