BEGIN:VCALENDAR
VERSION:2.0
PRODID:SchoolNow
CALSCALE:GREGORIAN
BEGIN:VEVENT
UID:8d5d1670-845e-11f0-acf8-0a58a9feac02
DTSTAMP:20260420T163508Z
SUMMARY:GA Studies
URL;VALUE=URI:https://www.colquitt.k12.ga.us/schools/sunset/calendar/855574
 5/ga-studies
DTSTART;VALUE=DATE:20260218
DTEND;VALUE=DATE:20260219
END:VEVENT
END:VCALENDAR
