BEGIN:VCALENDAR
VERSION:2.0
PRODID:SchoolNow
CALSCALE:GREGORIAN
BEGIN:VEVENT
UID:99a28f82-460b-11f0-a731-0e5d3af52d31
DTSTAMP:20260422T050509Z
SUMMARY:Teacher Workday
URL;VALUE=URI:https://www.colquitt.k12.ga.us/schools/sunset/calendar/828073
 7/teacher-workday
DTSTART;VALUE=DATE:20260522
DTEND;VALUE=DATE:20260523
END:VEVENT
END:VCALENDAR
