BEGIN:VCALENDAR
VERSION:2.0
PRODID:SchoolNow
CALSCALE:GREGORIAN
BEGIN:VEVENT
UID:99a28ea6-460b-11f0-b311-0e5d3af52d31
DTSTAMP:20260422T050509Z
SUMMARY:Teacher Workday
URL;VALUE=URI:https://www.colquitt.k12.ga.us/schools/sunset/calendar/828073
 6/teacher-workday
DTSTART;VALUE=DATE:20260521
DTEND;VALUE=DATE:20260522
END:VEVENT
END:VCALENDAR
