BEGIN:VCALENDAR
VERSION:2.0
PRODID:SchoolNow
CALSCALE:GREGORIAN
BEGIN:VEVENT
UID:99a28dc0-460b-11f0-acc7-0e5d3af52d31
DTSTAMP:20260422T050509Z
SUMMARY:CCHS Graduation
URL;VALUE=URI:https://www.colquitt.k12.ga.us/schools/sunset/calendar/828073
 5/cchs-graduation
DTSTART;VALUE=DATE:20260516
DTEND;VALUE=DATE:20260517
END:VEVENT
END:VCALENDAR
