BEGIN:VCALENDAR
VERSION:2.0
PRODID:SchoolNow
CALSCALE:GREGORIAN
BEGIN:VEVENT
UID:99a28ce4-460b-11f0-a67a-0e5d3af52d31
DTSTAMP:20260420T103008Z
SUMMARY:Spring Break
URL;VALUE=URI:https://www.colquitt.k12.ga.us/schools/sunset/calendar/828073
 4/spring-break
DTSTART;VALUE=DATE:20260410
DTEND;VALUE=DATE:20260411
END:VEVENT
END:VCALENDAR
