BEGIN:VCALENDAR
VERSION:2.0
PRODID:SchoolNow
CALSCALE:GREGORIAN
BEGIN:VEVENT
UID:99a28c08-460b-11f0-ab69-0e5d3af52d31
DTSTAMP:20260420T103008Z
SUMMARY:Spring Break
URL;VALUE=URI:https://www.colquitt.k12.ga.us/schools/sunset/calendar/828073
 3/spring-break
DTSTART;VALUE=DATE:20260409
DTEND;VALUE=DATE:20260410
END:VEVENT
END:VCALENDAR
