BEGIN:VCALENDAR
VERSION:2.0
PRODID:SchoolNow
CALSCALE:GREGORIAN
BEGIN:VEVENT
UID:99a2878a-460b-11f0-b392-0e5d3af52d31
DTSTAMP:20260420T163508Z
SUMMARY:No School
URL;VALUE=URI:https://www.colquitt.k12.ga.us/schools/sunset/calendar/828072
 8/no-school
DTSTART;VALUE=DATE:20260119
DTEND;VALUE=DATE:20260120
END:VEVENT
END:VCALENDAR
