BEGIN:VCALENDAR
VERSION:2.0
PRODID:SchoolNow
CALSCALE:GREGORIAN
BEGIN:VEVENT
UID:99a286a4-460b-11f0-ba06-0e5d3af52d31
DTSTAMP:20260420T103008Z
SUMMARY:No School
URL;VALUE=URI:https://www.colquitt.k12.ga.us/schools/sunset/calendar/828072
 7/no-school
DTSTART;VALUE=DATE:20260216
DTEND;VALUE=DATE:20260217
END:VEVENT
END:VCALENDAR
