BEGIN:VCALENDAR
VERSION:2.0
PRODID:SchoolNow
CALSCALE:GREGORIAN
BEGIN:VEVENT
UID:99a27e8e-460b-11f0-9fc6-0e5d3af52d31
DTSTAMP:20260420T163508Z
SUMMARY:Teacher Workday
URL;VALUE=URI:https://www.colquitt.k12.ga.us/schools/sunset/calendar/828071
 8/teacher-workday
DTSTART;VALUE=DATE:20260105
DTEND;VALUE=DATE:20260106
END:VEVENT
END:VCALENDAR
