BEGIN:VCALENDAR
VERSION:2.0
PRODID:SchoolNow
CALSCALE:GREGORIAN
BEGIN:VEVENT
UID:99a27d9e-460b-11f0-a0bb-0e5d3af52d31
DTSTAMP:20260420T163508Z
SUMMARY:Christmas Holidays
URL;VALUE=URI:https://www.colquitt.k12.ga.us/schools/sunset/calendar/828071
 7/christmas-holidays
DTSTART;VALUE=DATE:20251222
DTEND;VALUE=DATE:20260103
END:VEVENT
END:VCALENDAR
