BEGIN:VCALENDAR
VERSION:2.0
PRODID:SchoolNow
CALSCALE:GREGORIAN
BEGIN:VEVENT
UID:955214d6-393d-11f1-b3e5-0e25a5e28705
DTSTAMP:20260421T102008Z
SUMMARY:Pre-K Preview
URL;VALUE=URI:https://www.colquitt.k12.ga.us/schools/okapilco/calendar/8997
 064/pre-k-preview
DTSTART;VALUE=DATE:20260506
DTEND;VALUE=DATE:20260507
END:VEVENT
END:VCALENDAR
