BEGIN:VCALENDAR
VERSION:2.0
PRODID:SchoolNow
CALSCALE:GREGORIAN
BEGIN:VEVENT
UID:d6d11a26-2257-11f1-958f-0a58a9feac02
DTSTAMP:20260422T043509Z
SUMMARY:Spring and Group Pic Day
URL;VALUE=URI:https://www.colquitt.k12.ga.us/schools/okapilco/calendar/8926
 338/spring-and-group-pic-day
DTSTART;VALUE=DATE:20270317
DTEND;VALUE=DATE:20270318
END:VEVENT
END:VCALENDAR
