BEGIN:VCALENDAR
VERSION:2.0
PRODID:SchoolNow
CALSCALE:GREGORIAN
BEGIN:VEVENT
UID:d6d11850-2257-11f1-b4d8-0a58a9feac02
DTSTAMP:20260421T162509Z
SUMMARY:Picture Make Ups
URL;VALUE=URI:https://www.colquitt.k12.ga.us/schools/okapilco/calendar/8926
 337/picture-make-ups
DTSTART;VALUE=DATE:20261008
DTEND;VALUE=DATE:20261009
END:VEVENT
END:VCALENDAR
