BEGIN:VCALENDAR
VERSION:2.0
PRODID:SchoolNow
CALSCALE:GREGORIAN
BEGIN:VEVENT
UID:d6d0f820-2257-11f1-8a81-0a58a9feac02
DTSTAMP:20260421T162509Z
SUMMARY:Fall Picture Day
URL;VALUE=URI:https://www.colquitt.k12.ga.us/schools/okapilco/calendar/8926
 336/fall-picture-day
DTSTART;VALUE=DATE:20260903
DTEND;VALUE=DATE:20260904
END:VEVENT
END:VCALENDAR
