BEGIN:VCALENDAR
VERSION:2.0
PRODID:SchoolNow
CALSCALE:GREGORIAN
BEGIN:VEVENT
UID:08a69e24-1897-11f1-ab41-02cc34321d69
DTSTAMP:20260421T041509Z
SUMMARY:3rd-5th GMAS Prep Workshop
URL;VALUE=URI:https://www.colquitt.k12.ga.us/schools/okapilco/calendar/8893
 097/3rd-5th-gmas-prep-workshop
DTSTART:20260310T153000Z
DTEND:20260310T163000Z
END:VEVENT
END:VCALENDAR
