BEGIN:VCALENDAR
VERSION:2.0
PRODID:SchoolNow
CALSCALE:GREGORIAN
BEGIN:VEVENT
UID:08a69c76-1897-11f1-8f44-02cc34321d69
DTSTAMP:20260421T102008Z
SUMMARY:Club Day
URL;VALUE=URI:https://www.colquitt.k12.ga.us/schools/okapilco/calendar/8893
 096/club-day
DTSTART:20260227T124500Z
DTEND:20260227T134500Z
END:VEVENT
END:VCALENDAR
