BEGIN:VCALENDAR
VERSION:2.0
PRODID:SchoolNow
CALSCALE:GREGORIAN
BEGIN:VEVENT
UID:08a69ba4-1897-11f1-b877-02cc34321d69
DTSTAMP:20260421T041509Z
SUMMARY:4th and 5th Grade Lunch with Families
URL;VALUE=URI:https://www.colquitt.k12.ga.us/schools/okapilco/calendar/8893
 095/4th-and-5th-grade-lunch-with-families
DTSTART;VALUE=DATE:20260402
DTEND;VALUE=DATE:20260403
END:VEVENT
END:VCALENDAR
