BEGIN:VCALENDAR
VERSION:2.0
PRODID:SchoolNow
CALSCALE:GREGORIAN
BEGIN:VEVENT
UID:08a699ec-1897-11f1-957b-02cc34321d69
DTSTAMP:20260421T102008Z
SUMMARY:Field Day - K\, 1st\, 2nd
URL;VALUE=URI:https://www.colquitt.k12.ga.us/schools/okapilco/calendar/8893
 093/field-day-k-1st-2nd
DTSTART;VALUE=DATE:20260508
DTEND;VALUE=DATE:20260509
END:VEVENT
END:VCALENDAR
