BEGIN:VCALENDAR
VERSION:2.0
PRODID:SchoolNow
CALSCALE:GREGORIAN
BEGIN:VEVENT
UID:08a69910-1897-11f1-80d7-02cc34321d69
DTSTAMP:20260421T102008Z
SUMMARY:National Teacher Appreciation Week
URL;VALUE=URI:https://www.colquitt.k12.ga.us/schools/okapilco/calendar/8893
 092/national-teacher-appreciation-week
DTSTART;VALUE=DATE:20260504
DTEND;VALUE=DATE:20260509
END:VEVENT
END:VCALENDAR
