BEGIN:VCALENDAR
VERSION:2.0
PRODID:SchoolNow
CALSCALE:GREGORIAN
BEGIN:VEVENT
UID:08a69834-1897-11f1-81cd-02cc34321d69
DTSTAMP:20260421T041509Z
SUMMARY:Spring Fling
URL;VALUE=URI:https://www.colquitt.k12.ga.us/schools/okapilco/calendar/8893
 091/spring-fling
DTSTART:20260430T210000Z
DTEND:20260430T230000Z
END:VEVENT
END:VCALENDAR
