BEGIN:VCALENDAR
VERSION:2.0
PRODID:SchoolNow
CALSCALE:GREGORIAN
BEGIN:VEVENT
UID:08a69758-1897-11f1-98de-02cc34321d69
DTSTAMP:20260421T102008Z
SUMMARY:Field Day - 3rd\, 4th\, 5th
URL;VALUE=URI:https://www.colquitt.k12.ga.us/schools/okapilco/calendar/8893
 090/field-day-3rd-4th-5th
DTSTART;VALUE=DATE:20260507
DTEND;VALUE=DATE:20260508
END:VEVENT
END:VCALENDAR
