BEGIN:VCALENDAR
VERSION:2.0
PRODID:SchoolNow
CALSCALE:GREGORIAN
BEGIN:VEVENT
UID:08a69672-1897-11f1-b346-02cc34321d69
DTSTAMP:20260421T102008Z
SUMMARY:Students Last Day of School
URL;VALUE=URI:https://www.colquitt.k12.ga.us/schools/okapilco/calendar/8893
 089/students-last-day-of-school
DTSTART;VALUE=DATE:20260520
DTEND;VALUE=DATE:20260521
END:VEVENT
END:VCALENDAR
