BEGIN:VCALENDAR
VERSION:2.0
PRODID:SchoolNow
CALSCALE:GREGORIAN
BEGIN:VEVENT
UID:08a69550-1897-11f1-b2d5-02cc34321d69
DTSTAMP:20260421T102008Z
SUMMARY:Honor's Day 3rd\, 1st\, 2nd\, 4th
URL;VALUE=URI:https://www.colquitt.k12.ga.us/schools/okapilco/calendar/8893
 088/honors-day-3rd-1st-2nd-4th
DTSTART;VALUE=DATE:20260518
DTEND;VALUE=DATE:20260519
END:VEVENT
END:VCALENDAR
