BEGIN:VCALENDAR
VERSION:2.0
PRODID:SchoolNow
CALSCALE:GREGORIAN
BEGIN:VEVENT
UID:08a6947e-1897-11f1-99d4-02cc34321d69
DTSTAMP:20260421T102008Z
SUMMARY:5th Field Trip - Providence Canyon
URL;VALUE=URI:https://www.colquitt.k12.ga.us/schools/okapilco/calendar/8893
 087/5th-field-trip-providence-canyon
DTSTART;VALUE=DATE:20260227
DTEND;VALUE=DATE:20260228
END:VEVENT
END:VCALENDAR
