BEGIN:VCALENDAR
VERSION:2.0
PRODID:SchoolNow
CALSCALE:GREGORIAN
BEGIN:VEVENT
UID:08a693a2-1897-11f1-9523-02cc34321d69
DTSTAMP:20260421T041509Z
SUMMARY:House Day - PK and 4th Parents
URL;VALUE=URI:https://www.colquitt.k12.ga.us/schools/okapilco/calendar/8893
 086/house-day-pk-and-4th-parents
DTSTART;VALUE=DATE:20260320
DTEND;VALUE=DATE:20260321
END:VEVENT
END:VCALENDAR
