BEGIN:VCALENDAR
VERSION:2.0
PRODID:SchoolNow
CALSCALE:GREGORIAN
BEGIN:VEVENT
UID:08a692bc-1897-11f1-8dd6-02cc34321d69
DTSTAMP:20260421T102008Z
SUMMARY:Honor's Day K\, PK\, 5th
URL;VALUE=URI:https://www.colquitt.k12.ga.us/schools/okapilco/calendar/8893
 085/honors-day-k-pk-5th
DTSTART;VALUE=DATE:20260515
DTEND;VALUE=DATE:20260516
END:VEVENT
END:VCALENDAR
