BEGIN:VCALENDAR
VERSION:2.0
PRODID:SchoolNow
CALSCALE:GREGORIAN
BEGIN:VEVENT
UID:08a691e0-1897-11f1-a364-02cc34321d69
DTSTAMP:20260421T041509Z
SUMMARY:Special Olympics
URL;VALUE=URI:https://www.colquitt.k12.ga.us/schools/okapilco/calendar/8893
 084/special-olympics
DTSTART;VALUE=DATE:20260402
DTEND;VALUE=DATE:20260404
END:VEVENT
END:VCALENDAR
