BEGIN:VCALENDAR
VERSION:2.0
PRODID:SchoolNow
CALSCALE:GREGORIAN
BEGIN:VEVENT
UID:08a690fa-1897-11f1-bddf-02cc34321d69
DTSTAMP:20260421T102008Z
SUMMARY:House Day - 2nd and Seperate Class Parents
URL;VALUE=URI:https://www.colquitt.k12.ga.us/schools/okapilco/calendar/8893
 083/house-day-2nd-and-seperate-class-parents
DTSTART;VALUE=DATE:20260501
DTEND;VALUE=DATE:20260502
END:VEVENT
END:VCALENDAR
