BEGIN:VCALENDAR
VERSION:2.0
PRODID:SchoolNow
CALSCALE:GREGORIAN
BEGIN:VEVENT
UID:08a69014-1897-11f1-a281-02cc34321d69
DTSTAMP:20260421T041509Z
SUMMARY:Read Across America
URL;VALUE=URI:https://www.colquitt.k12.ga.us/schools/okapilco/calendar/8893
 082/read-across-america
DTSTART;VALUE=DATE:20260302
DTEND;VALUE=DATE:20260307
END:VEVENT
END:VCALENDAR
