BEGIN:VCALENDAR
VERSION:2.0
PRODID:SchoolNow
CALSCALE:GREGORIAN
BEGIN:VEVENT
UID:08a68f2e-1897-11f1-84d7-02cc34321d69
DTSTAMP:20260421T041509Z
SUMMARY:Teacher Work Day - Student Holiday
URL;VALUE=URI:https://www.colquitt.k12.ga.us/schools/okapilco/calendar/8893
 081/teacher-work-day-student-holiday
DTSTART;VALUE=DATE:20260313
DTEND;VALUE=DATE:20260314
END:VEVENT
END:VCALENDAR
