BEGIN:VCALENDAR
VERSION:2.0
PRODID:SchoolNow
CALSCALE:GREGORIAN
BEGIN:VEVENT
UID:08a68c2c-1897-11f1-8c21-02cc34321d69
DTSTAMP:20260421T041509Z
SUMMARY:National School Breakfast Week
URL;VALUE=URI:https://www.colquitt.k12.ga.us/schools/okapilco/calendar/8893
 078/national-school-breakfast-week
DTSTART;VALUE=DATE:20260302
DTEND;VALUE=DATE:20260307
END:VEVENT
END:VCALENDAR
