BEGIN:VCALENDAR
VERSION:2.0
PRODID:SchoolNow
CALSCALE:GREGORIAN
BEGIN:VEVENT
UID:08a6875e-1897-11f1-bb38-02cc34321d69
DTSTAMP:20260421T041509Z
SUMMARY:Pre-K and Seperate Class Lunch with Families
URL;VALUE=URI:https://www.colquitt.k12.ga.us/schools/okapilco/calendar/8893
 076/pre-k-and-seperate-class-lunch-with-families
DTSTART;VALUE=DATE:20260310
DTEND;VALUE=DATE:20260311
END:VEVENT
END:VCALENDAR
