BEGIN:VCALENDAR
VERSION:2.0
PRODID:SchoolNow
CALSCALE:GREGORIAN
BEGIN:VEVENT
UID:41f88294-1894-11f1-b94a-0e0a57487257
DTSTAMP:20260421T041007Z
SUMMARY:Teacher Workday
URL;VALUE=URI:https://www.colquitt.k12.ga.us/schools/odom/calendar/8893069/
 teacher-workday
DTSTART;VALUE=DATE:20270524
DTEND;VALUE=DATE:20270525
END:VEVENT
END:VCALENDAR
